BEGIN:VCALENDAR
VERSION:2.0
METHOD:PUBLISH
PRODID:-//Agenda.ad//NONSGML v1.0//EN
BEGIN:VEVENT
CLASS:PUBLIC
UID:82cc67754c0c9b9ba0b9be93f3cfddc8@agenda.ad
DTSTAMP:20260424T072453Z
DTSTART:20191214T230000Z
DTEND:20191214T230000Z
SUMMARY:<span>Temporada ONCA &middot; Concert de Nadal&nbsp;</span>
DESCRIPTION:\n\nMés informació\nhttps://www.agenda.ad/activitat/andorr
 a-la-vella/musica/temporada-onca-concert-de-nadal \n\n\nOrg
 anitza\nFundació ONCA
LOCATION:Consell General
SEQUENCE:0
TRANSP:OPAQUE
X-ALT-DESC;FMTTYPE=text/html:<!DOCTYPE HTML PUBLIC "-//W3C//DTD HTML 3.2//EN"><HTML><HEAD
 ><TITLE></TITLE></HEAD><BODY><FONT FACE="Arial" SIZE=2><br/>
 <br/><b>Més informació</b><br/><a href="https://www.agenda
 .ad/activitat/andorra-la-vella/musica/temporada-onca-concert
 -de-nadal ">https://www.agenda.ad/activitat/andorra-la-vell
 a/musica/temporada-onca-concert-de-nadal </a><br/><br/><br/
 ><b>Organitza</b><br/>Fundació ONCA</FONT></BODY></HTML>
END:VEVENT
END:VCALENDAR